BEGIN:VCALENDAR
VERSION:2.0
PRODID:-//wp-events-plugin.com//6.6.4.4//EN
TZID:Europe/Berlin
X-WR-TIMEZONE:Europe/Berlin
BEGIN:VEVENT
UID:4879@kath-kirche-affaltrach.de
DTSTART;TZID=Europe/Berlin:20260508T180000
DTEND;TZID=Europe/Berlin:20260508T210000
DTSTAMP:20260416T082805Z
URL:https://www.kath-kirche-affaltrach.de/termine/offener-jugendkeller-2/
SUMMARY:offener Jugendkeller
DESCRIPTION:
CATEGORIES:Jugend
LOCATION:Jugendkeller\, Langfeldstraße 5\, Affaltrach\, BW\, 74182\, Deuts
 chland
GEO:49.132537;9.380653
X-APPLE-STRUCTURED-LOCATION;VALUE=URI;X-ADDRESS=Langfeldstraße 5\, Affaltr
 ach\, BW\, 74182\, Deutschland;X-APPLE-RADIUS=100;X-TITLE=Jugendkeller:geo
 :49.132537,9.380653
END:VEVENT
BEGIN:VTIMEZONE
TZID:Europe/Berlin
X-LIC-LOCATION:Europe/Berlin
BEGIN:DAYLIGHT
DTSTART:20260329T030000
TZOFFSETFROM:+0100
TZOFFSETTO:+0200
TZNAME:CEST
END:DAYLIGHT
END:VTIMEZONE
END:VCALENDAR